BEGIN:VCALENDAR
VERSION:2.0
PRODID:-//【公式】シヴァーナンダヨーガ東京｜Sivananda Yoga Japan - ECPv6.15.20//NONSGML v1.0//EN
CALSCALE:GREGORIAN
METHOD:PUBLISH
X-ORIGINAL-URL:https://sivanandajp.org
X-WR-CALDESC:【公式】シヴァーナンダヨーガ東京｜Sivananda Yoga Japan のイベント
REFRESH-INTERVAL;VALUE=DURATION:PT1H
X-Robots-Tag:noindex
X-PUBLISHED-TTL:PT1H
BEGIN:VTIMEZONE
TZID:Asia/Tokyo
BEGIN:STANDARD
TZOFFSETFROM:+0900
TZOFFSETTO:+0900
TZNAME:JST
DTSTART:20250101T000000
END:STANDARD
END:VTIMEZONE
BEGIN:VEVENT
DTSTART;TZID=Asia/Tokyo:20260425T140000
DTEND;TZID=Asia/Tokyo:20260425T153000
DTSTAMP:20260423T165346
CREATED:20260315T051552Z
LAST-MODIFIED:20260327T044940Z
UID:10004648-1777125600-1777131000@sivanandajp.org
SUMMARY:(改)【東京センター／オンライン開催】 スワミ・プラナヴァ先生 アーサナの指導法WS全4回シリーズ
DESCRIPTION:世界各国のTTCでメイン講師を務めるスワミ・プラナヴァ先生から、直接アーサナの指導法を学べる貴重なワークショップです。\nTTC卒業生の皆さん、指導現場での疑問をこの機会に解消しましょう。\nこれから教え始める方、久しぶりに教えたいと思っている方、そして普段教えていて様々な疑問をお持ちの方、皆さんご参加いただけます。\nアーサナクラスの基本をしっかりと学びましょう。 \n【日時】 \n4月18日（土）スタート ／ 毎週土曜日・全4回シリーズ\n14:00 – 15:30（90分）\n※各回の詳細日程は【プログラム】欄をご確認ください。 \n【料金】 \nお得な4回セット券、または単発での受講が可能です。 \n\n\n\n種類\nTTC卒業生\n東京センター カルマヨギ\n\n\n4回通し券\n12\,000円\n5\,000円\n\n\n1回単発券\n3\,300円\n1\,500円\n\n\n\n【プログラム】 \n\n第1回｜4月18日（土）14:00 – 15:30\n  プラーナヤーマと太陽礼拝\n  クラスの導入となる呼吸法と、すべての基本となる太陽礼拝の導き方を学びます。\n第2回｜4月25日（土）14:00 – 15:30\n  逆転のポーズと魚のポーズ\n  安全な補助（アジャスト）の方法と、生徒への的確なインストラクションを学びます。\n第3回｜5月2日（土）14:00 – 15:30\n  前屈と後屈のポーズ\n  体の柔軟性に合わせた軽減法や、背骨を安全に動かすためのポイントを深掘りします。\n第4回｜5月9日（土）14:00 – 15:30\n  バランスのポーズ、立位の前屈、三角のポーズ\n  安定感を引き出す伝え方と、立位ポーズにおける正しいアライメントを確認します。\n\n\n\n     \n\nSwami Pranava（スワミ・プラナヴァ）\n\n        カリフォルニア出身。1995年より世界中でヨガと瞑想を指導。ハタヨガと解剖学のスペシャリストとして、シヴァーナンダ・ヨガ・ヴェーダーンタ・センターの元ディレクターを務める。TTC、ATTC、サーダナ・インテンシヴのメイン講師を歴任。\n       \n \n \n\n    講師よりメッセージ：ハタヨガの魅力をお届けします。アーサナの深い世界を探索しましょう。あなたの参加を心よりお待ちしております！\n   \n\n【参加対象】 \n\nヨガTTC（指導者養成コース）卒業生\n現在クラスを教えている方\nこれから教えたい方\n久しぶりに指導を再開したい方\n指導における日常の疑問を解消したい方（どなたでも歓迎）\n\n【持ち物】 \n\n動きやすい服装\n筆記用具（メモ用）\n\n\n【参加方法】 \n完全予約制です。\n下記の申し込みフォームよりお申込みください。 \n\n対面参加／オンライン参加：クラス開始時間の10分前にお越しください。\n\n【申し込み】 \nこのフォームに入力するには、ブラウザーで JavaScript を有効にしてください。お名前 *メールアドレス（お間違いのないようにお願いします） *メールアドレスメールアドレスを確認電話番号 *料金 *TTC卒4回券 - ¥12\,000カルマヨギ4回券 - ¥5\,000TTC卒1回券 - ¥3\,300カルマヨギ1回券 - ¥1\,500単発参加の方。参加日を記入してくださいもし良かったら追加でドネーションをお願いします。センターを維持・運営し、教えを広めるために大切に使わせていただきます。お支払い方法 *クレジットカード銀行振込会場支払い銀行振込\nゆうちょ銀行の口座から：店番　018　　記号番号　10130-94315441\n他行からの場合：店名　〇一八店（ゼロイチハチ店）　普通預金　9431544\n\n口座名義：ﾄｸﾋ）シヴァーナンダ　ヨーガ　ヴェーダンタ　センター　ジャパン \n\nSquareカードカード名義人合計¥0Nameお支払い
URL:https://sivanandajp.org/program/swamipranava_asanaws4/2026-04-25/
ATTACH;FMTTYPE=image/png:https://sivanandajp.org/wp-content/uploads/2026/02/スワミ・プラナヴァ先生-アーサナの指導法WS4回シリーズ.png
END:VEVENT
END:VCALENDAR